BEGIN:VCALENDAR
VERSION:2.0
PRODID:-//DC Preservation League - ECPv6.15.20//NONSGML v1.0//EN
CALSCALE:GREGORIAN
METHOD:PUBLISH
X-WR-CALNAME:DC Preservation League
X-ORIGINAL-URL:https://dcpreservation.org
X-WR-CALDESC:Events for DC Preservation League
REFRESH-INTERVAL;VALUE=DURATION:PT1H
X-Robots-Tag:noindex
X-PUBLISHED-TTL:PT1H
BEGIN:VTIMEZONE
TZID:America/New_York
BEGIN:DAYLIGHT
TZOFFSETFROM:-0500
TZOFFSETTO:-0400
TZNAME:EDT
DTSTART:20240310T070000
END:DAYLIGHT
BEGIN:STANDARD
TZOFFSETFROM:-0400
TZOFFSETTO:-0500
TZNAME:EST
DTSTART:20241103T060000
END:STANDARD
BEGIN:DAYLIGHT
TZOFFSETFROM:-0500
TZOFFSETTO:-0400
TZNAME:EDT
DTSTART:20250309T070000
END:DAYLIGHT
BEGIN:STANDARD
TZOFFSETFROM:-0400
TZOFFSETTO:-0500
TZNAME:EST
DTSTART:20251102T060000
END:STANDARD
BEGIN:DAYLIGHT
TZOFFSETFROM:-0500
TZOFFSETTO:-0400
TZNAME:EDT
DTSTART:20260308T070000
END:DAYLIGHT
BEGIN:STANDARD
TZOFFSETFROM:-0400
TZOFFSETTO:-0500
TZNAME:EST
DTSTART:20261101T060000
END:STANDARD
END:VTIMEZONE
BEGIN:VEVENT
DTSTART;TZID=America/New_York:20250813T173000
DTEND;TZID=America/New_York:20250813T183000
DTSTAMP:20260419T100208
CREATED:20250805T154123Z
LAST-MODIFIED:20250805T154123Z
UID:5275-1755106200-1755109800@dcpreservation.org
SUMMARY:Heurich House Tour & Backyard Beer Garden
DESCRIPTION:Join the DC Preservation League and the Heurich House Museum staff for a tour of this stunning Dupont Circle mansion. Built between 1892 and 1894 for successful German-American brewer Christian Heurich (1842-1945)\, the Heurich House is the city’s finest and best-preserved example of Richardsonian Romanesque residential architecture. It is among the nation’s most authentic period homes\, providing a remarkably evocative sense of the Gilded Age lifestyle of an immigrant industrial entrepreneur. It is also one of the few buildings in DC with a designated historic interior. After taking a guided stroll through the building\, head out to the backyard beer garden for a drink or two if you desire. \n  \nThis event has a ticket cost of $10.00 per person for DCPL members\, non-members $25.00. Space is limited for this tour\, so sign up today by clicking here!
URL:https://dcpreservation.org/event/heurich-house-tour-backyard-beer-garden/
LOCATION:Heurich House\, 1307 New Hampshire Avenue NW
END:VEVENT
END:VCALENDAR