BEGIN:VCALENDAR
VERSION:2.0
PRODID:-//DC Preservation League - ECPv6.15.20//NONSGML v1.0//EN
CALSCALE:GREGORIAN
METHOD:PUBLISH
X-WR-CALNAME:DC Preservation League
X-ORIGINAL-URL:https://dcpreservation.org
X-WR-CALDESC:Events for DC Preservation League
REFRESH-INTERVAL;VALUE=DURATION:PT1H
X-Robots-Tag:noindex
X-PUBLISHED-TTL:PT1H
BEGIN:VTIMEZONE
TZID:America/New_York
BEGIN:DAYLIGHT
TZOFFSETFROM:-0500
TZOFFSETTO:-0400
TZNAME:EDT
DTSTART:20240310T070000
END:DAYLIGHT
BEGIN:STANDARD
TZOFFSETFROM:-0400
TZOFFSETTO:-0500
TZNAME:EST
DTSTART:20241103T060000
END:STANDARD
BEGIN:DAYLIGHT
TZOFFSETFROM:-0500
TZOFFSETTO:-0400
TZNAME:EDT
DTSTART:20250309T070000
END:DAYLIGHT
BEGIN:STANDARD
TZOFFSETFROM:-0400
TZOFFSETTO:-0500
TZNAME:EST
DTSTART:20251102T060000
END:STANDARD
BEGIN:DAYLIGHT
TZOFFSETFROM:-0500
TZOFFSETTO:-0400
TZNAME:EDT
DTSTART:20260308T070000
END:DAYLIGHT
BEGIN:STANDARD
TZOFFSETFROM:-0400
TZOFFSETTO:-0500
TZNAME:EST
DTSTART:20261101T060000
END:STANDARD
END:VTIMEZONE
BEGIN:VEVENT
DTSTART;TZID=America/New_York:20250927T120000
DTEND;TZID=America/New_York:20250927T150000
DTSTAMP:20260423T062651
CREATED:20250818T195018Z
LAST-MODIFIED:20250818T195018Z
UID:5282-1758974400-1758985200@dcpreservation.org
SUMMARY:Crab Feast 11
DESCRIPTION:Join the DC Preservation League and the Capital Pride Alliance for their annual Crab Feast at the historic Washington Canoe Club\, one of DC’s most picturesque locations on the banks of the beautiful Potomac River. \nThis event takes place entirely outdoors\, with canoes and paddle boards available for adventures on the water. \nDate & Time: Saturday\, September 27th\, 12:00 pm – 3:00 pm (Rain Date: October 11th) \nTickets: $85 for ages 13+; $25 for kids 12 and under. Includes: all-you-can eat crabs\, shrimp\, corn on the cob\, hot dogs\, and ice cream + beer\, wine\, soda\, and water available. Limited seating available: Get your tickets now! \nCancellations/Refunds: Requests for refunds will only be considered more than 5 days prior to the event\, and transaction fees will be subtracted from the refund total. Cancellations 5 days or less from the event will not be refunded\, but the ticket cost can be converted to a tax-deductible donation. If you have any questions\, please email Kelli Knox\, kelli@dcpreservation.org. \nREGISTER HERE
URL:https://dcpreservation.org/event/crab-feast-11/
LOCATION:Washington Canoe Club\, 3700 Water St. NW\, Washington\, DC\, 20007\, United States
END:VEVENT
END:VCALENDAR