BEGIN:VCALENDAR
VERSION:2.0
PRODID:-//DC Preservation League - ECPv6.15.20//NONSGML v1.0//EN
CALSCALE:GREGORIAN
METHOD:PUBLISH
X-WR-CALNAME:DC Preservation League
X-ORIGINAL-URL:https://dcpreservation.org
X-WR-CALDESC:Events for DC Preservation League
REFRESH-INTERVAL;VALUE=DURATION:PT1H
X-Robots-Tag:noindex
X-PUBLISHED-TTL:PT1H
BEGIN:VTIMEZONE
TZID:America/New_York
BEGIN:DAYLIGHT
TZOFFSETFROM:-0500
TZOFFSETTO:-0400
TZNAME:EDT
DTSTART:20240310T070000
END:DAYLIGHT
BEGIN:STANDARD
TZOFFSETFROM:-0400
TZOFFSETTO:-0500
TZNAME:EST
DTSTART:20241103T060000
END:STANDARD
BEGIN:DAYLIGHT
TZOFFSETFROM:-0500
TZOFFSETTO:-0400
TZNAME:EDT
DTSTART:20250309T070000
END:DAYLIGHT
BEGIN:STANDARD
TZOFFSETFROM:-0400
TZOFFSETTO:-0500
TZNAME:EST
DTSTART:20251102T060000
END:STANDARD
BEGIN:DAYLIGHT
TZOFFSETFROM:-0500
TZOFFSETTO:-0400
TZNAME:EDT
DTSTART:20260308T070000
END:DAYLIGHT
BEGIN:STANDARD
TZOFFSETFROM:-0400
TZOFFSETTO:-0500
TZNAME:EST
DTSTART:20261101T060000
END:STANDARD
END:VTIMEZONE
BEGIN:VEVENT
DTSTART;TZID=America/New_York:20251029T180000
DTEND;TZID=America/New_York:20251029T200000
DTSTAMP:20260419T100336
CREATED:20251003T155345Z
LAST-MODIFIED:20251003T155345Z
UID:5298-1761760800-1761768000@dcpreservation.org
SUMMARY:Distillery Tour & Meet Up: Cotton & Reed
DESCRIPTION:Join the DC Preservation League for a tour of Cotton & Reed Distillery\, a beautiful example of adaptive reuse in DC’s Union Market Historic District! The last time DCPL toured this space was 2016 and much has changed since – come see for yourself! \nTicket includes distillery tour\, rum taste test\, and one cocktail. \nTickets for DCPL Members are $25 | Non-Member Tickets $35 \nCancellations/Refunds: Requests for refunds will only be considered more than 5 days prior to the event\, and transaction fees will be subtracted from the refund total. Cancellations 5 days or less from the event will not be refunded\, but the ticket cost can be converted to a tax-deductible donation. \nQuestions? Email kelli@dcpreservation.org \nREGISTER HERE
URL:https://dcpreservation.org/event/distillery-tour-meet-up-cotton-reed/
LOCATION:Cotton & Reed Distillery\, 1330 5th St NE
END:VEVENT
END:VCALENDAR