BEGIN:VCALENDAR
VERSION:2.0
PRODID:-//DC Preservation League - ECPv6.15.20//NONSGML v1.0//EN
CALSCALE:GREGORIAN
METHOD:PUBLISH
X-WR-CALNAME:DC Preservation League
X-ORIGINAL-URL:https://dcpreservation.org
X-WR-CALDESC:Events for DC Preservation League
REFRESH-INTERVAL;VALUE=DURATION:PT1H
X-Robots-Tag:noindex
X-PUBLISHED-TTL:PT1H
BEGIN:VTIMEZONE
TZID:America/New_York
BEGIN:DAYLIGHT
TZOFFSETFROM:-0500
TZOFFSETTO:-0400
TZNAME:EDT
DTSTART:20250309T070000
END:DAYLIGHT
BEGIN:STANDARD
TZOFFSETFROM:-0400
TZOFFSETTO:-0500
TZNAME:EST
DTSTART:20251102T060000
END:STANDARD
BEGIN:DAYLIGHT
TZOFFSETFROM:-0500
TZOFFSETTO:-0400
TZNAME:EDT
DTSTART:20260308T070000
END:DAYLIGHT
BEGIN:STANDARD
TZOFFSETFROM:-0400
TZOFFSETTO:-0500
TZNAME:EST
DTSTART:20261101T060000
END:STANDARD
BEGIN:DAYLIGHT
TZOFFSETFROM:-0500
TZOFFSETTO:-0400
TZNAME:EDT
DTSTART:20270314T070000
END:DAYLIGHT
BEGIN:STANDARD
TZOFFSETFROM:-0400
TZOFFSETTO:-0500
TZNAME:EST
DTSTART:20271107T060000
END:STANDARD
END:VTIMEZONE
BEGIN:VEVENT
DTSTART;TZID=America/New_York:20260328T110000
DTEND;TZID=America/New_York:20260328T121500
DTSTAMP:20260420T192921
CREATED:20260317T162320Z
LAST-MODIFIED:20260323T181749Z
UID:5394-1774695600-1774700100@dcpreservation.org
SUMMARY:Site Tour: DAR Memorial Continental Hall & Museum
DESCRIPTION:Please join the DC Preservation League for a special guided tour of The Daughters of the American Revolution Museum\, located in DAR National Headquarters. This museum highlights the decorative arts and features 30+ period rooms that are designed to make you feel like you’re stepping into the past! \nThe Museum’s galleries and exhibits tell the story of the American home from the 1600s through the early 1900s. The collection features furniture\, textiles\, ceramics\, paintings\, and other household items. The museum was founded in 1890\, as a department within the Daughters of the American Revolution to assist with the DAR’s missions of education and historic preservation. \nAttendees will also learn about the recent renovations to both the interior and exterior of the building. \nSpace is limited; register now to secure your spot! \nDCPL Member Tickets $15 | Non Member Tickets $20 \nREGISTER HERE
URL:https://dcpreservation.org/event/site-tour-dar-museum/
LOCATION:DAR Museum\, 1776 D Street NW\, Washington\, DC\, 20006\, United States
END:VEVENT
END:VCALENDAR